BEGIN:VCALENDAR
VERSION:2.0
PRODID:-//hacksw/handcal//NONSGML v1.0//EN
CALSCALE:GREGORIAN
BEGIN:VEVENT
ORGANIZER;CN=Carlyle Credit Income Fund:MAILTO:no-reply@gcs-web.com
DTEND:
UID:9e48c887-2a4b-49cd-ab8d-3331da853476
DTSTAMP:1776952966
LOCATION:https://edge.media-server.com/mmc/p/uggcidmu
DESCRIPTION:Event Details https://www.carlylecreditincomefund.com/events/event-details/carlyle-credit-income-fund-second-quarter-2026-earnings-call\n\nWebcast: https://edge.media-server.com/mmc/p/uggcidmu
URL;VALUE=URI:https://edge.media-server.com/mmc/p/uggcidmu
SUMMARY:Carlyle Credit Income Fund - Carlyle Credit Income Fund Second Quarter 2026 Earnings Call
DTSTART:20260520T140000Z
END:VEVENT
END:VCALENDAR